BEGIN:VCALENDAR
PRODID:-//eluceo/ical//2.0/EN
VERSION:2.0
CALSCALE:GREGORIAN
BEGIN:VEVENT
UID:e13ae9b4c7b65c83e27f2a2a33f71d68
DTSTAMP:20260420T160341Z
SUMMARY:35º Encontro de Teatro Plebeus
DESCRIPTION:More info\nPrograma: "Isto vai acabar mal" Pela Companhia Teatr
 al de Ramalde (31 de outubro &agrave\;s 21:30h)\; "Palmeira 1909" Pela Nov
 a Com&eacute\;dia Bracarense (7 de novembro &agrave\;s 21:30h)\; "Foi na L
 oja do Mestre Andr&eacute\;" Pelo Teatro Independente de Loures (8 de nove
 mbro &agrave\;s 15h)\; "O Bairro do Amor" Pelo Grupo de Teatro da E. M&uac
 ute\;sica Sta.&ordf\; Cec&iacute\;lia (14 de novembro &agrave\;s 21.30h)\;
  "Cora&ccedil\;&atilde\;o de um Pugilista" Pela Theatron - Associa&ccedil\
 ;&atilde\;o Cultural (21 de novembro &agrave\;s 21.30h)\; "Menina do Mar" 
 Pela Theatron - Associa&ccedil\;&atilde\;o Cultural (22 de novembro &agrav
 e\;s 15h)\; "Lagarta Sim\, Lagarta N&atilde\;o" Pela Companhia de Teatro d
 e Santo Tirso (22 de novembro &agrave\;s 16h)\; "A Musqueta" Pelo GETAS - 
 Centro Cultural de Sardoal (28 de novembro &agrave\;s 21:30h)\; "A Birra d
 o Morto" Pelo Grupo M&eacute\;rito Dram&aacute\;tico Avintense (5 de dezem
 bro &agrave\;s 21:30h)\; "O Feiticeiro Infeliz" Pel' Os Plebeus Avintenses
 /Ilha M&aacute\;gica (6 de dezembro &agrave\;s 15h)\; "Solnado" Pela Compa
 nhia de Teatro de Santo Tirso (12 de dezembro &agrave\;s 21:30h)\; "Esta N
 oite Improvisa-se" Pel' Os Plebeus Avintenses (19 de dezembro &agrave\;s 2
 1:30h).
URL:https://iporto.amp.pt/en/eventos/35o-encontro-de-teatro-plebeus_en/
DTSTART:20151031
DTEND:20151220
CATEGORIES:Theatre
END:VEVENT
END:VCALENDAR
