BEGIN:VCALENDAR
PRODID:-//eluceo/ical//2.0/EN
VERSION:2.0
CALSCALE:GREGORIAN
BEGIN:VEVENT
UID:d07b0e31935649d42a43b70d1c1e2971
DTSTAMP:20260419T150322Z
SUMMARY:As esculturas do Jardim das Virtudes
DESCRIPTION:Schedule\n15:00h\n\nDescription\nEsculturas que complementam a 
 beleza natural do Jardim das Virtudes\, um parque urbano público e único
 . A pedra de regresso ao seu meio\, à natureza\, mas agora trabalhada por
  três artistas portugueses. Um percurso de conhecimento estético\, num a
 mbiente relaxante\, em pleno centro da cidade do Porto. Percurso conduzido
  por Tânia Ribeiro.
URL:https://iporto.amp.pt/en/eventos/as-esculturas-do-jardim-das-virtudes/
DTSTART:20190827
CATEGORIES:Etc
END:VEVENT
END:VCALENDAR
