BEGIN:VCALENDAR
PRODID:-//eluceo/ical//2.0/EN
VERSION:2.0
CALSCALE:GREGORIAN
BEGIN:VEVENT
UID:d360ba8c55fb052b88349e5ef8424e50
DTSTAMP:20260420T101833Z
SUMMARY:Beethoven’s Triple
DESCRIPTION:Schedule\n21:00\n\nDescription\nThe acclaimed French cellist Ma
 rc Coppey returns to Porto\, this time with his son\, violinist Emmanuel C
 oppey\, and Irish pianist Finghin Collins\, for a program that includes Be
 ethoven's Triple Concerto and Rachmaninoff's Symphonic Dances.\n\nMore inf
 o\nPrices\nZone 1 € 30\nZone 2 € 27\nZone 3 € 24\n\nDiscounts\nJunio
 rs (< 30 years) 50%\nSeniors (> 65 years) 15%\nUniversity Students 50%\nMu
 sic Teachers and Students 50%\nAmigo 25%\nBPI Card 20%
URL:https://iporto.amp.pt/en/eventos/beethovens-triple/
DTSTART:20251121
LOCATION:Avenida da Boavista\, 604-610\, 4149-071 Porto
GEO:41.159059;-8.630685
X-APPLE-STRUCTURED-LOCATION;VALUE=URI;X-ADDRESS=Avenida da Boavista\, 604-6
 10\, 4149-071 Porto;X-APPLE-RADIUS=49;X-TITLE=:geo:41.159059,-8.630685
CATEGORIES:Music
END:VEVENT
END:VCALENDAR
