BEGIN:VCALENDAR
PRODID:-//eluceo/ical//2.0/EN
VERSION:2.0
CALSCALE:GREGORIAN
BEGIN:VEVENT
UID:5e33d01ed2741367e7df15f0c3b00063
DTSTAMP:20260423T055212Z
SUMMARY:Camilo and Gambling in Bathing Póvoa
DESCRIPTION:Schedule\nTue-Sun 09:30-12:30/13:30-17:00 | Mon\, holidays clos
 ed\n\nDescription\nThe justification for Camilo Castelo Branco's stay in P
 óvoa was the medical recommendations for bathing in the sea\, a prescript
 ion for the ailments that afflicted and depressed him\, but the gambling a
 nd entertainment of the crowded and luxurious cafés were a more powerful 
 attraction for his restless spirit. \nThe exhibition takes us back to the 
 atmosphere of Póvoa at the end of the 19th century\, when the town's proj
 ection was made as much by its fishing activity as by the tourist movement
  during the bathing season.\n\nMore info\nhttps://www.cm-pvarzim.pt/evento
 s/exposicao-camilo-e-o-jogo-na-povoa-balnear/
URL:https://iporto.amp.pt/en/eventos/camilo-and-gambling-in-bathing-povoa/
DTSTART:20250218
DTEND:20270101
CATEGORIES:Exhibitions
END:VEVENT
END:VCALENDAR
