BEGIN:VCALENDAR
PRODID:-//eluceo/ical//2.0/EN
VERSION:2.0
CALSCALE:GREGORIAN
BEGIN:VEVENT
UID:19f965e1356216b57c99c01061286bc5
DTSTAMP:20260424T160730Z
SUMMARY:Camilo – Life and Work
DESCRIPTION:Schedule\n21:30\n\nDescription\n"Camilo – Life and Work" is a
  contemporary ballet by the Ballet do Douro\, conceived and choreographed 
 by Sílvia Boga\, representing the life and literary world of Camilo Caste
 lo Branco as part of the celebrations marking the bicentenary of his birth
 .\n\nMore info\nhttps://www.cm-gaia.pt/pt/eventos/camilo-vida-e-obra/
URL:https://iporto.amp.pt/en/eventos/camilo-life-and-work/
DTSTART:20260430
LOCATION:Rua de Moçambique\, 4430-145 Vila Nova de Gaia
GEO:41.123368;-8.603618
X-APPLE-STRUCTURED-LOCATION;VALUE=URI;X-ADDRESS=Rua de Moçambique\, 4430-1
 45 Vila Nova de Gaia;X-APPLE-RADIUS=49;X-TITLE=:geo:41.123368,-8.603618
CATEGORIES:Dance
END:VEVENT
END:VCALENDAR
