BEGIN:VCALENDAR
PRODID:-//eluceo/ical//2.0/EN
VERSION:2.0
CALSCALE:GREGORIAN
BEGIN:VEVENT
UID:032f9454c5ea4ba8bbf0de77663edc18
DTSTAMP:20260421T083927Z
SUMMARY:Capital da Bulgária
DESCRIPTION:Schedule\n16:00\n\nDescription\nCHANGE OF THE VENUE FOR THE CON
 CERT TO BALSEMÃO VISCOUNT'S MANSION\n\nBetween vlogs and covers\, the art
 ist took her first steps by expressing creativity through her YouTube chan
 nel\, evolving into creating music in her own name\, first with her EP "Pe
 queno-Almoço"\, in 2021\, and now with the album that was released at the
  end of February this year\, "Contei e deixei que tu me julgasses". In the
 se 13 songs\, the singer reveals more than just her unique voice. Her fing
 erprints are all over them - in every detail.\n\nMore info\n15:00-16:00 - 
 Guided visit to the Bank of Materials - https://iporto.amp.pt/en/equipamen
 tos/bank-of-materials/\n\nThe Bank of Materials is a pioneering municipal 
 project at a national level\, with a leading role in the rehabilitation of
  Porto's buildings\, whose objectives are to promote and safeguard the mat
 erials that characterise the city's image. Its collections predominantly i
 nclude tiles and other ceramic elements\, such as decorative tiles\, carto
 uches and figures\, as well as an extremely varied collection of stucco or
 naments\, toponymic plaques collected from the streets\, and wooden\, iron
  and stonework artefacts.\n\nFree admission\n\nSounds in Heritage Sites’
  full programme at https://iporto.amp.pt/en/eventos/sounds-in-heritage-sit
 es-2024/
URL:https://iporto.amp.pt/en/eventos/capital-da-bulgaria/
DTSTART:20241020
LOCATION:Praça de Carlos Alberto\, 71\, 4050-157 Porto
GEO:41.148946;-8.615291
X-APPLE-STRUCTURED-LOCATION;VALUE=URI;X-ADDRESS=Praça de Carlos Alberto\, 
 71\, 4050-157 Porto;X-APPLE-RADIUS=49;X-TITLE=:geo:41.148946,-8.615291
CATEGORIES:Music,Music,Music
END:VEVENT
END:VCALENDAR
