BEGIN:VCALENDAR
PRODID:-//eluceo/ical//2.0/EN
VERSION:2.0
CALSCALE:GREGORIAN
BEGIN:VEVENT
UID:6a7d502c9f1479a289527f09a2bcd886
DTSTAMP:20260420T141815Z
SUMMARY:Cassy
DESCRIPTION:Schedule\n22:00\n\nDescription\nIt’s a great pleasure to see 
 Cassy dive into her record collection with such enthusiasm. Away from the 
 transcendent spaces where she continues to play most weekends\, her Instag
 ram series "Talking About My Records" offers plenty of opportunities to co
 nnect with her energy. Sparked by her return home to Austria and the redis
 covery of a vast vinyl collection\, the series stands out for the sense th
 at Cassy’s passion and dedication to the music that fuels club culture h
 ave been reignited. (...)\n\nMore info\nAged >18\n\nThe event starts at 23
 :59 and is scheduled to end at 6:00.\n\nhttps://pt.ra.co/events/2281193
URL:https://iporto.amp.pt/en/eventos/cassy/
DTSTART:20251121
CATEGORIES:Music
END:VEVENT
END:VCALENDAR
