BEGIN:VCALENDAR
PRODID:-//eluceo/ical//2.0/EN
VERSION:2.0
CALSCALE:GREGORIAN
BEGIN:VEVENT
UID:06ccaea65c2c04f91f3dcfba9affc5f3
DTSTAMP:20260420T174718Z
SUMMARY:Chestnut Fair
DESCRIPTION:More info\nProgramme: https://www.facebook.com/photo?fbid=10720
 16968262359&set=a.515356843928377&locale=pt_PT
URL:https://iporto.amp.pt/en/eventos/chestnut-fair/
DTSTART:20241108
DTEND:20241111
CATEGORIES:Festivals
END:VEVENT
END:VCALENDAR
