BEGIN:VCALENDAR
PRODID:-//eluceo/ical//2.0/EN
VERSION:2.0
CALSCALE:GREGORIAN
BEGIN:VEVENT
UID:ab8a0c1f7994749a1799c69e41209bc9
DTSTAMP:20260420T122405Z
SUMMARY:Cicatrizes\, de Dino D’Santiago
DESCRIPTION:Schedule\n15:00\n\nDescription\nA biblioteca municipal será o 
 palco de um encontro exclusivo com um dos artistas mais influentes da cult
 ura lusófona contemporânea: Dino D’Santiago.\n\nDesta vez\, o músico 
 apresenta-se numa nova faceta: a de autor. Em destaque estará o seu livro
  de estreia\, "Cicatrizes" (ed. Penguin)\, uma obra que transcende a liter
 atura para se tornar num exercício de despojo e autoconhecimento.\n\nMore
  info\nEntrada livre\n\nhttp://www.bm-ferreiradecastro.com/index.php?optio
 n=com_jcalpro&Itemid=67&extmode=view&extid=3308
URL:https://iporto.amp.pt/en/eventos/cicatrizes-de-dino-dsantiago/
DTSTART:20260509
LOCATION:Rua General Humberto Delgado\n3720-254 Oliveira de Azeméis
GEO:40.835918;-8.483473
X-APPLE-STRUCTURED-LOCATION;VALUE=URI;X-ADDRESS=Rua General Humberto Delgad
 o\n3720-254 Oliveira de Azeméis;X-APPLE-RADIUS=49;X-TITLE=:geo:40.835918,
 -8.483473
CATEGORIES:Etc
END:VEVENT
END:VCALENDAR
