BEGIN:VCALENDAR
PRODID:-//eluceo/ical//2.0/EN
VERSION:2.0
CALSCALE:GREGORIAN
BEGIN:VEVENT
UID:fd9362368face9f651ab3b8eb89ce77f
DTSTAMP:20260421T102051Z
SUMMARY:Encontros com a Música 2026
DESCRIPTION:Schedule\n26 Fev\, 26 Mar\, 30 Abr\, 28 Mai\, 25 Jun\, 24 Set\,
  22 Out\, 26 Nov 21:30\n\nDescription\nO ciclo integra oito concertos come
 ntados ao longo do ano\, cada um com duração aproximada de 45 minutos\, 
 combinando interpretação musical e contextualização das obras e autore
 s. Esta abordagem permite ao público compreender melhor a música\, valor
 izando a cultura portuguesa e promovendo o diálogo entre diferentes forma
 s de arte\, como literatura\, dança e pintura.\n\nMore info\nEntrada grat
 uita\, sujeita à lotação da sala\n\nhttps://www.cm-gondomar.pt/agenda/
URL:https://iporto.amp.pt/en/eventos/encontros-com-a-musica-2026/
DTSTART:20260226
DTEND:20261127
LOCATION:Avenida 25 de Abril\, 103\, 4420–065 Gondomar
GEO:41.136958;-8.533113
X-APPLE-STRUCTURED-LOCATION;VALUE=URI;X-ADDRESS=Avenida 25 de Abril\, 103\,
  4420–065 Gondomar;X-APPLE-RADIUS=49;X-TITLE=:geo:41.136958,-8.533113
CATEGORIES:Music
END:VEVENT
END:VCALENDAR
