BEGIN:VCALENDAR
PRODID:-//eluceo/ical//2.0/EN
VERSION:2.0
CALSCALE:GREGORIAN
BEGIN:VEVENT
UID:565156669f744f4c7ec53d974ae261e2
DTSTAMP:20260419T151559Z
SUMMARY:Eva Gevorgyan
DESCRIPTION:Schedule\n21:00\n\nDescription\nArmenian pianist Eva Gevorgyan 
 is a serious contender on the international piano scene\, having accumulat
 ed numerous awards and distinctions. A finalist in the 2021 International 
 Chopin Competition\, she was the youngest pianist to reach that stage. In 
 this recital\, she brings us emblematic music from the Romantic period.\n\
 nMore info\nTickets\nZone 1 €24\nZone 2 €22\nZone 3 €20\n\nDiscounts
 \nJuniors (ages 30 and under) 50%\nUniversity student 50%\nMusic teachers 
 and students 50%\nFriend Card 25%\nBPI Card 20%\nSeniors (ages 65 and up) 
 15%
URL:https://iporto.amp.pt/en/eventos/eva-gevorgyan/
DTSTART:20251011
LOCATION:Avenida da Boavista\, 604-610\, 4149-071 Porto
GEO:41.159059;-8.630685
X-APPLE-STRUCTURED-LOCATION;VALUE=URI;X-ADDRESS=Avenida da Boavista\, 604-6
 10\, 4149-071 Porto;X-APPLE-RADIUS=49;X-TITLE=:geo:41.159059,-8.630685
CATEGORIES:Music
END:VEVENT
END:VCALENDAR
