BEGIN:VCALENDAR
PRODID:-//eluceo/ical//2.0/EN
VERSION:2.0
CALSCALE:GREGORIAN
BEGIN:VEVENT
UID:a01fe709009b1dc6933804fc657383bb
DTSTAMP:20260425T181849Z
SUMMARY:Teatro e Marionetas de Mandrágora’s Puppets Stage Exhibition
DESCRIPTION:Schedule\nMon-Fri 10:00-17:00 | Sat 10:00-13:30/14:30-18:00\n\n
 Description\n"Voltada para o mar a exposição do Teatro e Marionetas de M
 andrágora assiste ao balançar das ondas\, observando o ciclo das marés.
  É em Espinho que as marionetas encontraram a sua casa à mais de uma dé
 cada. (...)"\n\nMore info\n"(...) Uma&nbsp\;exposi&ccedil\;&atilde\;o agor
 a renovada\, preparada para receber os visitantes\, repleta&nbsp\;de&nbsp\
 ;figuras\, peda&ccedil\;os de esculturas. Peda&ccedil\;os de hist&oacute\;
 rias que viajaram e que muitas vezes subiram ao palco recebendo os sorriso
 s\, os olhares atentos e as palmas dos espetadores. Viajar por esta exposi
 &ccedil\;&atilde\;o &eacute\; percorrer duas d&eacute\;cadas de partilhas.
  Cada objeto tem e teve um espa&ccedil\;o de existir. Viajamos por autores
  de grande valor nacional nestas esculturas\, conhecemos um pouco mais do 
 nosso patrim&oacute\;nio atrav&eacute\;s das lendas que aqui se prefiguram
 . Viajamos por todo um processo de cria&ccedil\;&atilde\;o no acompanhar d
 o nascimento destes quase seres\, que encerram em si segredos c&eacute\;ni
 cos. Mas al&eacute\;m da po&eacute\;tica podemos percorrer os materiais\, 
 a figura e a forma\, a modela&ccedil\;&atilde\;o\, o desenho\, a escultura
 \, a mistura de abordagens\, linguagens que fazem parte da constru&ccedil\
 ;&atilde\;o das marionetas que constituem este esp&oacute\;lio com mais de
  meia centena de pe&ccedil\;as."\n\n\nTurned to the sea\, the Teatro e Mar
 ionetas de Mandr&aacute\;gora&rsquo\;s exhibition watches the waves\, payi
 ng attention to the tides. The puppets have found their home in Espinho fo
 r over a decade. The exhibition was renewed and is now prepared to receive
  visitors offering plenty of figures\, parts of sculptures\, pieces of sto
 ries that travelled around and went many times on stage receiving the smil
 es\, the attention and the applause of the audience. To visit this exhibit
 ion is to explore two decades of shared experiences. (&hellip\;) Each obje
 ct has and had its own time and space. We will visit authors of great nati
 onal value through these sculptures and get to know a bit more about our h
 eritage through the legends we find here. We will also visit the process o
 f creation\, following the birth of these almost-beings with many scenery 
 secrets to tell. Besides poetics\, there are materials\, figure and form\,
  modelling\, drawing\, sculpture\, combined approaches\, languages that ar
 e part of the construction of the puppets comprised in this collection of 
 over fifty pieces.\n\n\nVolvi&eacute\;ndose hacia el mar\, la exposici&oac
 ute\;n del Teatro e Marionetas de Mandr&aacute\;gora asiste al balancear d
 e las olas\, observando el ciclo de las mareas. Los t&iacute\;teres han en
 contrado su casa en Espinho hace m&aacute\;s de una d&eacute\;cada. Una ex
 posici&oacute\;n ahora renovada\, preparada para recibir sus visitantes ll
 ena de figuras\, partes de esculturas\, pedazos de historias que viajaron 
 y que muchas veces subieron al escenario para recibir las sonrisas\, las m
 iradas atentas y el aplauso de los espectadores. Viajar por esta exposici&
 oacute\;n es recorrer dos d&eacute\;cadas de experiencias compartidas. (&h
 ellip\;) Cada objeto tiene y tuvo un espacio de existir. Viajamos por auto
 res de gran valor nacional en estas esculturas\, conocemos un poco m&aacut
 e\;s sobre nuestro patrimonio a trav&eacute\;s de las leyendas que encontr
 amos aqu&iacute\;. Viajamos por todo el proceso de creaci&oacute\;n\, acom
 pa&ntilde\;ando el nacimiento de estos casi seres\, con muchos secretos es
 c&eacute\;nicos. Y adem&aacute\;s de la po&eacute\;tica\, podemos recorrer
  los materiales\, la figura y la forma\, la modelaci&oacute\;n\, el dibujo
 \, la escultura\, la mezcla de abordajes\, lenguajes que hacen parte de la
  construcci&oacute\;n de los t&iacute\;teres que constituyen esta colecci&
 oacute\;n con m&aacute\;s de cincuenta piezas.
URL:https://iporto.amp.pt/en/eventos/exposicao-palco-das-marionetas-do-teat
 ro-e-marionetas-de-mandragora-6_en/
DTSTART:20210701
DTEND:20210801
LOCATION:Rua 41\, Av. João de Deus\, 4500 Espinho
GEO:41.000797;-8.643697
X-APPLE-STRUCTURED-LOCATION;VALUE=URI;X-ADDRESS=Rua 41\, Av. João de Deus\
 , 4500 Espinho;X-APPLE-RADIUS=49;X-TITLE=:geo:41.000797,-8.643697
CATEGORIES:Exhibitions
END:VEVENT
END:VCALENDAR
