BEGIN:VCALENDAR
PRODID:-//eluceo/ical//2.0/EN
VERSION:2.0
CALSCALE:GREGORIAN
BEGIN:VEVENT
UID:3e10467c2ce3c09d908affd5d1b16e6e
DTSTAMP:20260421T120543Z
SUMMARY:Invisibilities Porto Femme | Mira Galerias
DESCRIPTION:Schedule\nWed-Sat 15:00-19:00\n\nDescription\n“Invisibilities
 ” is a photography exhibition that is the result of an open call aimed a
 t artists who identify as women and non-binary people.\n\nIt is jointly or
 ganised by the XX Element Project/Porto Femme Association and MIRA Galeria
 s | MIRA FORUM and aims to promote the visibility of women in the world of
  photography.\n\nThe theme “Invisibilities” has led to a series of con
 ceptual and aesthetic developments displayed in this exhibition.\n\nMore i
 nfo\nThe exhibition is part of the project “(In)visibilidades e Derivas"
 \nSupport: dgARTES\n\nFree admission\n\nhttps://www.facebook.com/events/54
 3467528766965?locale=pt_PT
URL:https://iporto.amp.pt/en/eventos/invisibilities-porto-femme-mira-galeri
 as/
DTSTART:20250329
DTEND:20250425
LOCATION:Rua Padre António Vieira\, 68\n4300-030 Porto
GEO:41.147803;-8.588697
X-APPLE-STRUCTURED-LOCATION;VALUE=URI;X-ADDRESS=Rua Padre António Vieira\,
  68\n4300-030 Porto;X-APPLE-RADIUS=49;X-TITLE=:geo:41.147803,-8.588697
CATEGORIES:Exhibitions
END:VEVENT
END:VCALENDAR
