BEGIN:VCALENDAR
PRODID:-//eluceo/ical//2.0/EN
VERSION:2.0
CALSCALE:GREGORIAN
BEGIN:VEVENT
UID:25dd3d2e9c8e571b66ab6dcff62ba7bc
DTSTAMP:20260420T160513Z
SUMMARY:Luís Represas - "Cores"
DESCRIPTION:Description\nDepois de Olhos nos olhos\, último disco de origi
 nais editado em 2008\, Luís Represas apresenta-nos o seu mais recente tra
 balho: “Cores”. As músicas apresentam-se-nos na sua essência\, despi
 das… Este espectáculo tem um carácter intimista e ao mesmo tempo trans
 versal\, nunca esquecendo os êxitos que marcaram os últimos 37 anos da c
 arreira do Artista.
URL:https://iporto.amp.pt/en/eventos/luis-represas-cores_en/
DTSTART:20140920
CATEGORIES:Music
END:VEVENT
END:VCALENDAR
