BEGIN:VCALENDAR
PRODID:-//eluceo/ical//2.0/EN
VERSION:2.0
CALSCALE:GREGORIAN
BEGIN:VEVENT
UID:a796cd101ca83752ba2c32b02bbecfc9
DTSTAMP:20260421T085838Z
SUMMARY:Mário Soares: 100 Anos
DESCRIPTION:Schedule\nSeg-Sex 10:00-13:00/14:00-18:00\n\nDescription\nEstá
  patente ao público\, no átrio da biblioteca municipal\, a exposição q
 ue dá a conhecer a vida de Mário Soares\, o seu pensamento\, interesses 
 e valores\, a sua luta e ação pela liberdade e pela democracia\, o seu l
 egado nacional e internacional. \n\nA iniciativa integra o programa das co
 memorações do Centenário de Mário Soares.\n\nMore info\nEntrada livre
URL:https://iporto.amp.pt/en/eventos/mario-soares-100-anos/
DTSTART:20250804
DTEND:20250830
LOCATION:Rua General Humberto Delgado\n3720-254 Oliveira de Azeméis
GEO:40.835918;-8.483473
X-APPLE-STRUCTURED-LOCATION;VALUE=URI;X-ADDRESS=Rua General Humberto Delgad
 o\n3720-254 Oliveira de Azeméis;X-APPLE-RADIUS=49;X-TITLE=:geo:40.835918,
 -8.483473
CATEGORIES:Exhibitions
END:VEVENT
END:VCALENDAR
