BEGIN:VCALENDAR
PRODID:-//eluceo/ical//2.0/EN
VERSION:2.0
CALSCALE:GREGORIAN
BEGIN:VEVENT
UID:2090f9d6a61aefa6267bcc350b1d1e84
DTSTAMP:20260422T164159Z
SUMMARY:Marisa Monte
DESCRIPTION:Schedule\n21:00\n\nDescription\n“Portas” é o mais recente 
 disco a solo de Marisa Monte\, gravado durante a pandemia e com as bases f
 eitas em estúdio\, no Rio de Janeiro. Posteriormente\, houve sessões rem
 otas em Lisboa\, Los Angeles\, Madrid\, Barcelona e Nova Iorque. O trabalh
 o conta ainda com arranjos de Arthur Verocai\, Antonio Neves e Marcelo Cam
 elo e participações especiais de Seu Jorge e Flor. Todos esses movimento
 s resultaram num disco global que promete conquistar o público português
 .\n\nMore info\nBilhetes e +Info / Tickets and +Info / Billetes y +Info: h
 ttps://www.superbockarena.pt/evento/marisa-monte/\n\n"Portas" is Marisa Mo
 nte's latest solo album\, recorded during the pandemic and with the bases 
 done in the studio\, in Rio de Janeiro. Later\, there were remote sessions
  in Lisbon\, Los Angeles\, Madrid\, Barcelona and New York. The work also 
 includes arrangements by Arthur Verocai\, Antonio Neves and Marcelo Camelo
  and special appearances by Seu Jorge and Flor. All these movements have r
 esulted in a global record that promises to win over the Portuguese public
 .\n\n"Portas" es el &uacute\;ltimo disco en solitario de Marisa Monte\, gr
 abado durante la pandemia y con las bases hechas en el estudio\, en R&iacu
 te\;o de Janeiro. Posteriormente\, hubo sesiones a distancia en Lisboa\, L
 os &Aacute\;ngeles\, Madrid\, Barcelona y Nueva York. El trabajo tambi&eac
 ute\;n incluye arreglos de Arthur Verocai\, Antonio Neves y Marcelo Camelo
  y apariciones especiales de Seu Jorge y Flor. Todos estos movimientos han
  dado lugar a un disco global que promete conquistar al p&uacute\;blico po
 rtugu&eacute\;s.
URL:https://iporto.amp.pt/en/eventos/marisa-monte-1_en/
DTSTART:20220628
LOCATION:Rua de D. Manuel II\, 4050-346 Porto
GEO:41.147233;-8.625888
X-APPLE-STRUCTURED-LOCATION;VALUE=URI;X-ADDRESS=Rua de D. Manuel II\, 4050-
 346 Porto;X-APPLE-RADIUS=49;X-TITLE=:geo:41.147233,-8.625888
CATEGORIES:Music
END:VEVENT
END:VCALENDAR
