BEGIN:VCALENDAR
PRODID:-//eluceo/ical//2.0/EN
VERSION:2.0
CALSCALE:GREGORIAN
BEGIN:VEVENT
UID:121660b087302649ebaf16a52589aa2b
DTSTAMP:20260420T101106Z
SUMMARY:Matilde Leite
DESCRIPTION:Schedule\n21:30\n\nDescription\nA singer-songwriter from Lisbon
 \, Matilde Leite has just released "Por Dizer"\, an album about everything
  that wasn’t said at the right time\, whether in personal relationships 
 or in the circumstances of life.\n\nMore info\nFree admission
URL:https://iporto.amp.pt/en/eventos/matilde-leite/
DTSTART:20260514
LOCATION:Avenida da Boavista\, 604-610\, 4149-071 Porto
GEO:41.159059;-8.630685
X-APPLE-STRUCTURED-LOCATION;VALUE=URI;X-ADDRESS=Avenida da Boavista\, 604-6
 10\, 4149-071 Porto;X-APPLE-RADIUS=49;X-TITLE=:geo:41.159059,-8.630685
CATEGORIES:Music
END:VEVENT
END:VCALENDAR
