BEGIN:VCALENDAR
PRODID:-//eluceo/ical//2.0/EN
VERSION:2.0
CALSCALE:GREGORIAN
BEGIN:VEVENT
UID:5423a3f8c13c0a18005e5e8ae70bc088
DTSTAMP:20260421T085635Z
SUMMARY:Nduduzo Makhathini
DESCRIPTION:Schedule\n21:30\n\nDescription\nSince his international debut f
 or Blue Note in 2020\, South African pianist and composer Nduduzo Makhathi
 ni has been widely acclaimed for the genuinely spiritual transcendence of 
 his music. For Makhathini\, a Zulu healer and educator who delved into the
  stories and traditions of his ancestors\, improvised music was never just
  a matter of aesthetics or idioms. But with the three-movement suite uNomk
 hubulwane (2024)\, his third release on the revered jazz label\, Makhathin
 i has surpassed all expectations by offering his deepest vision of creativ
 e mysticism yet.\n\nMore info\nAged >6 | 90 Min\n\nhttps://www.musica-esp.
 pt/auditorio-de-espinho-academia/programacao-bilheteira/625/nduduzo-makhat
 hini
URL:https://iporto.amp.pt/en/eventos/nduduzo-makhathini/
DTSTART:20250516
LOCATION:Rua 34\, 884\, 4500-318 Espinho
GEO:41.006337;-8.642487
X-APPLE-STRUCTURED-LOCATION;VALUE=URI;X-ADDRESS=Rua 34\, 884\, 4500-318 Esp
 inho;X-APPLE-RADIUS=49;X-TITLE=:geo:41.006337,-8.642487
CATEGORIES:Music
END:VEVENT
END:VCALENDAR
