BEGIN:VCALENDAR
PRODID:-//eluceo/ical//2.0/EN
VERSION:2.0
CALSCALE:GREGORIAN
BEGIN:VEVENT
UID:dddcc1081abef64970f87077dc06389e
DTSTAMP:20260421T104059Z
SUMMARY:No Land in Sight
DESCRIPTION:Schedule\nTue-Sun 10:00-12:30/14:00-17:30\n\nDescription\nFeatu
 ring around 100 works from the Norlinda and José Lima Collection\, the ex
 hibition takes its cue from the latest book by the Serbian-American poet C
 harles Simic\, "No Land in Sight: Poems" (2022)\, drawing on the metaphor 
 of sailing without a horizon as an image of humanity confronted with polit
 ical instability\, democratic fragility\, the climate crisis and structura
 l inequalities.\n\nCurated by Paula Cabaleiro\n\nMore info\nOpening: 16:00
URL:https://iporto.amp.pt/en/eventos/no-land-in-sight/
DTSTART:20260418
DTEND:20270125
LOCATION:Rua Paula Rego\, 3700-119 S. João da Madeira
GEO:40.906111;-8.497440
X-APPLE-STRUCTURED-LOCATION;VALUE=URI;X-ADDRESS=Rua Paula Rego\, 3700-119 S
 . João da Madeira;X-APPLE-RADIUS=49;X-TITLE=:geo:40.906111,-8.497440
CATEGORIES:Exhibitions
END:VEVENT
END:VCALENDAR
