BEGIN:VCALENDAR
PRODID:-//eluceo/ical//2.0/EN
VERSION:2.0
CALSCALE:GREGORIAN
BEGIN:VEVENT
UID:07779947070b0fc4b21317ca12c709ed
DTSTAMP:20260419T143835Z
SUMMARY:O Baile dos Candeeiros
DESCRIPTION:Schedule\n21:30h\n\nDescription\nTodos nós temos um universo m
 ágico que carregamos da nossa infância.  Candeeiros humanos\, autónomos
 \, espalhados por pontos estratégicos\, transformam os espaços que habit
 am\, e deslocam-se através deles com movimentos específicos: acendem\, a
 pagam\, respiram\, interagem...\n\nMore info\nA pe&ccedil\;a "O Baile dos 
 Candeeiros" j&aacute\; representou Portugal na Europa (Espanha\, Fran&cced
 il\;a\, etc) e na &Aacute\;sia (Macau). A pe&ccedil\;a foi vencedora do pr
 &eacute\;mio "Melhor Espet&aacute\;culo de Rua" no Festival Internacional 
 de Teatro de Castilla e Leon em cidade Rodrigo\, Espanha. &nbsp\; &nbsp\;
URL:https://iporto.amp.pt/en/eventos/o-baile-dos-candeeiros/
DTSTART:20180824
CATEGORIES:Dance
END:VEVENT
END:VCALENDAR
