BEGIN:VCALENDAR
PRODID:-//eluceo/ical//2.0/EN
VERSION:2.0
CALSCALE:GREGORIAN
BEGIN:VEVENT
UID:cd259390366aa57ed52573ae6d42a154
DTSTAMP:20260422T090608Z
SUMMARY:O Fim
DESCRIPTION:Schedule\n21:30\n\nDescription\nA Momento – Artistas Independ
 entes apresenta "O Fim"\, com criação e encenação de Diogo Freitas\, a
  partir do texto inédito de Gonçalo M. Tavares.\n\nMore info\nA sessão 
 de 31 de janeiro contará com interpretação em Língua Gestual Portugues
 a.\n\nhttps://www.cm-gaia.pt/pt/eventos/o-fim/
URL:https://iporto.amp.pt/en/eventos/o-fim/
DTSTART:20250131
DTEND:20250202
LOCATION:Rua de Moçambique\, 4430-145 Vila Nova de Gaia
GEO:41.123368;-8.603618
X-APPLE-STRUCTURED-LOCATION;VALUE=URI;X-ADDRESS=Rua de Moçambique\, 4430-1
 45 Vila Nova de Gaia;X-APPLE-RADIUS=49;X-TITLE=:geo:41.123368,-8.603618
CATEGORIES:Theatre
END:VEVENT
END:VCALENDAR
