BEGIN:VCALENDAR
PRODID:-//eluceo/ical//2.0/EN
VERSION:2.0
CALSCALE:GREGORIAN
BEGIN:VEVENT
UID:21e0cbe60eedced6c6378f897e653ad6
DTSTAMP:20260423T165926Z
SUMMARY:The Traditional Christmas Crib in Póvoa de Varzim
DESCRIPTION:Schedule\nTue-Sun 09:30-12:30/13:30-17:00\n\nMore info\nFree ad
 mission\n\nhttps://www.cm-pvarzim.pt/eventos/o-natal-no-museu/
URL:https://iporto.amp.pt/en/eventos/the-traditional-christmas-crib-in-povo
 a-de-varzim/
DTSTART:20251212
DTEND:20260112
CATEGORIES:Exhibitions
END:VEVENT
END:VCALENDAR
