BEGIN:VCALENDAR
PRODID:-//eluceo/ical//2.0/EN
VERSION:2.0
CALSCALE:GREGORIAN
BEGIN:VEVENT
UID:1e84f6f337089fb76fe1f29383fed7dd
DTSTAMP:20260420T102033Z
SUMMARY:Timbre and Rhythm
DESCRIPTION:Description\nThe language of percussion is prehistoric and\, sh
 ared across the globe\, defines rhythm in music\, with timbres ranging fro
 m the whisper of maracas to the thunder of drums. These sounds mould the f
 low of the melody\, creating a rhythmic tapestry that is both the foundati
 on and the spice of any musical composition.\n\nMore info\nPrices\nSession
  € 15\nModule € 37
URL:https://iporto.amp.pt/en/eventos/timbre-and-rhythm/
DTSTART:20250915
DTEND:20250930
LOCATION:Avenida da Boavista\, 604-610\, 4149-071 Porto
GEO:41.159059;-8.630685
X-APPLE-STRUCTURED-LOCATION;VALUE=URI;X-ADDRESS=Avenida da Boavista\, 604-6
 10\, 4149-071 Porto;X-APPLE-RADIUS=49;X-TITLE=:geo:41.159059,-8.630685
CATEGORIES:Educational Service
END:VEVENT
END:VCALENDAR
