BEGIN:VCALENDAR
PRODID:-//eluceo/ical//2.0/EN
VERSION:2.0
CALSCALE:GREGORIAN
BEGIN:VEVENT
UID:c3b72a2f2cd84b409f017feadfb69c0b
DTSTAMP:20260421T103817Z
SUMMARY:Van Zee
DESCRIPTION:Schedule\n22:30\n\nDescription\nArrifana will host a concert fu
 ll of talent and irreverence. With his bold musical identity\, Van Zee pro
 mises to enchant and hold the audience with every chord\, from start to fi
 nish.\n\nMore info\nFree admission\n\nhttps://cm-feira.pt/web/guest/arrife
 st-festival-juventude-arrifana
URL:https://iporto.amp.pt/en/eventos/van-zee/
DTSTART:20250919
CATEGORIES:Music
END:VEVENT
END:VCALENDAR
