BEGIN:VCALENDAR
PRODID:-//eluceo/ical//2.0/EN
VERSION:2.0
CALSCALE:GREGORIAN
BEGIN:VEVENT
UID:6ff2a73af2218dcafac303f6b36f375e
DTSTAMP:20260420T121944Z
SUMMARY:Village Party
DESCRIPTION:Schedule\n12:30-23:00\n\nDescription\n30 Aug\n\n15:00 Diogo Pic
 ão\n20:00 Soul Trio\n21:30 Ricardo Azevedo + Banda Marcial do Vale\n\n31 
 Aug\n\n12:30 Soul Trio\n18:00 Coletivo Capela\n\nMore info\nhttps://cm-fei
 ra.pt/ha-festa-na-aldeia
URL:https://iporto.amp.pt/en/eventos/village-party/
DTSTART:20250830
DTEND:20250901
CATEGORIES:Music
END:VEVENT
END:VCALENDAR
