BEGIN:VCALENDAR
PRODID:-//eluceo/ical//2.0/EN
VERSION:2.0
CALSCALE:GREGORIAN
BEGIN:VEVENT
UID:c0d150676cfeab8b9526f3abaf0e6844
DTSTAMP:20260423T164828Z
SUMMARY:White Night
DESCRIPTION:Schedule\n22:00\n\nDescription\nFrom 22:00 to 04:00\, everyone 
 is invited to dress in white and go out on the street to have fun in diffe
 rent spots around the city: Passeio Alegre\, Praça da República\, Praça
  do Almada and Esplanada do Carvalhido. \n\nThroughout the night\, these v
 enues will feature great music from guest DJs Chinelos com vida (duo)\, Ca
 seira\, Rubem T\, Wilson Honrado\, Bruno Guedes Vieira\, Merche Romero\, P
 edro Cazanova\, Luisinho (Tiger Lewis)\, João Duque and Alex. \nBesides m
 usical entertainment\, the magic of the White Night will be all over the c
 ity with stilts\, circus arts and various acrobatics.\n\nMore info\nhttps:
 //www.cm-pvarzim.pt/comunicacao/noticias/noite-branca-e-na-povoa-de-varzim
 /
URL:https://iporto.amp.pt/en/eventos/white-night/
DTSTART:20240824
CATEGORIES:Outdoor Activities,Outdoor Activities
END:VEVENT
END:VCALENDAR
