BEGIN:VCALENDAR
PRODID:-//eluceo/ical//2.0/EN
VERSION:2.0
CALSCALE:GREGORIAN
BEGIN:VEVENT
UID:de5501f3739f63b274692a49b8d8d955
DTSTAMP:20260425T182238Z
SUMMARY:A Arqueologia e o Património Mundial: da estratigrafia à arquitet
 ura | Isabel Pinto Osório
DESCRIPTION:Cronograma\n16:00h\n\nDescripción\nPercurso\, precedido de apr
 esentação\, por alguns locais e imóveis que foram objeto de intervenç
 ão arqueológica\, e que revolucionaram o conhecimento das origens da cid
 ade\, dando um contributo importante ao processo de classificação do Cen
 tro Histórico do Porto como Património Cultural da Humanidade.\n\nMás i
 nformación\nParticipa&ccedil\;&atilde\;o mediante aquisi&ccedil\;&atilde\
 ;o de bilhete. Pre&ccedil\;o: 3\,00&euro\;. Tel. 223 393 480 | email: perc
 ursos.culturais@cm-porto.pt | www.bilheteiraonline.pt&nbsp\;
URL:https://iporto.amp.pt/es/eventos/a-arqueologia-e-o-patrimonio-mundial-d
 a-estratigrafia-a-arquitetura/
DTSTART:20161027
LOCATION:Rua  de Dom Hugo\, 32\n4050-305 Porto
GEO:41.142429;-8.610660
X-APPLE-STRUCTURED-LOCATION;VALUE=URI;X-ADDRESS=Rua  de Dom Hugo\, 32\n4050
 -305 Porto;X-APPLE-RADIUS=49;X-TITLE=:geo:41.142429,-8.610660
CATEGORIES:Aire Libre
END:VEVENT
END:VCALENDAR
