BEGIN:VCALENDAR
PRODID:-//eluceo/ical//2.0/EN
VERSION:2.0
CALSCALE:GREGORIAN
BEGIN:VEVENT
UID:32e97dee097f742d1d0c2012ce6b2bfb
DTSTAMP:20260422T181319Z
SUMMARY:A lenda do Milagre das Rosas
DESCRIPTION:Cronograma\n11:00h e 15:30h\, sábado\n\nDescripción\nConta a 
 lenda que o Rei viu a sua mulher\, a Rainha Isabel\, sair do palácio às 
 escondidas\, foi atrás dela e perguntou-lhe o que levava escondido por ba
 ixo do manto. Era pão para distribuir pelos pobres. Mas ela\, aflita por 
 ter desobedecido ao rei\, disse: São Rosas\, Senhor! São Rosas! Vem conh
 ecer o final da Lenda\, que será contada através de um Teatro de Marione
 tes.
URL:https://iporto.amp.pt/es/eventos/a-lenda-do-milagre-das-rosas/
DTSTART:20170311
CATEGORIES:Actividades Infanto-Juveniles
END:VEVENT
END:VCALENDAR
