BEGIN:VCALENDAR
PRODID:-//eluceo/ical//2.0/EN
VERSION:2.0
CALSCALE:GREGORIAN
BEGIN:VEVENT
UID:f6dd2be48eb5bb4ad5a7b01163c5f1d4
DTSTAMP:20260423T153159Z
SUMMARY:A Mentira
DESCRIPTION:Cronograma\n21:30h\n\nDescripción\n"A Mentira" é uma comédia
  deliciosa do aclamado escritor Florian Zeller\, que cria uma dramaturgia 
 engenhosa e com tempos desafiadores para o público\, trazendo de forma le
 ve e divertida uma reflexão sobre os limites da fraqueza e da lealdade na
 s relações pessoais.\n\nMás información\n+Info: https://www.cm-pvarzim
 .pt/eventos/comedia-a-mentira/
URL:https://iporto.amp.pt/es/eventos/a-mentira-1/
DTSTART:20230307
DTEND:20230309
LOCATION:Rua José Malgueira\, 1/ 15\, 4490-647 Póvoa de Varzim
GEO:41.380327;-8.765512
X-APPLE-STRUCTURED-LOCATION;VALUE=URI;X-ADDRESS=Rua José Malgueira\, 1/ 15
 \, 4490-647 Póvoa de Varzim;X-APPLE-RADIUS=49;X-TITLE=:geo:41.380327,-8.7
 65512
CATEGORIES:Teatro
END:VEVENT
END:VCALENDAR
