BEGIN:VCALENDAR
PRODID:-//eluceo/ical//2.0/EN
VERSION:2.0
CALSCALE:GREGORIAN
BEGIN:VEVENT
UID:a4c5e30b95af1ea7ccd49fe22d5d42db
DTSTAMP:20260425T180051Z
SUMMARY:Antiga Sede e Prisão no Porto
DESCRIPTION:Cronograma\n18:00\n\nDescripción\nQuando a Revolução do 25 d
 e Abril se aproxima dos seus 50 anos\, o Museu e as Bibliotecas do Porto t
 razem ao ciclo «Um Objeto e seus Discursos» uma das marcas portuenses ma
 is sombrias do Estado Novo\, da sua polícia política e mecanismos de con
 trolo e repressão: a antiga prisão e sede da PIDE (Polícia Internaciona
 l e de Defesa do Estado)\, à rua do Heroísmo\, hoje casa do Museu Milita
 r do Porto.\n\nO «objeto» será o pretexto de uma conversa sobre a memó
 ria do lugar e das políticas repressivas e totalitárias do Estado Novo e
  da PIDE\, assim como de histórias de carne e osso e movimentos de resist
 ência e pró-democráticos (...)\n\nMás información\nCom Gaspar Martins
  Pereira e Maria José Ribeiro\nModeração: David Pontes\nComissários: J
 orge Sobrado e José A. Bragança de Miranda.\n\nhttps://museudoporto.pt/r
 ecurso/um-objeto-e-seus-discursos-antiga-sede-e-prisao-pide-no-porto/
URL:https://iporto.amp.pt/es/eventos/antiga-sede-e-prisao-no-porto/
DTSTART:20240420
CATEGORIES:Etc
END:VEVENT
END:VCALENDAR
