BEGIN:VCALENDAR
PRODID:-//eluceo/ical//2.0/EN
VERSION:2.0
CALSCALE:GREGORIAN
BEGIN:VEVENT
UID:0d2838e3e6d38223e9112939437b423e
DTSTAMP:20260421T101149Z
SUMMARY:Black Heritage Gospel Choir
DESCRIPTION:Cronograma\n21:00\n\nDescripción\nFormado por miembros del leg
 endario Mississippi Mass Choir y dirigido por Jerry Calvin Smith\, el Blac
 k Heritage Choir presenta un espectáculo que recorre la historia del gosp
 el\, desde sus raíces en las plantaciones del sur de Estados Unidos hasta
  sus expresiones más urbanas y contemporáneas. El resultado es un concie
 rto intenso y profundamente humano\, en el que la tradición y la modernid
 ad van de la mano.
URL:https://iporto.amp.pt/es/eventos/black-heritage-gospel-choir/
DTSTART:20261212
CATEGORIES:Música
END:VEVENT
END:VCALENDAR
