BEGIN:VCALENDAR
PRODID:-//eluceo/ical//2.0/EN
VERSION:2.0
CALSCALE:GREGORIAN
BEGIN:VEVENT
UID:9593cc47851db9e92b01525011bcb5e8
DTSTAMP:20260421T103357Z
SUMMARY:Camilo na Rua
DESCRIPTION:Cronograma\n17:00\n\nDescripción\nUma abordagem inovadora e di
 vertida à vida e obra de Camilo Castelo Branco\, inserida nas comemoraç
 ões do bicentenário do escritor.\n\nA peça mistura humor\, música e at
 é hip-hop\, dando uma nova dinâmica ao legado de Camilo. Dois atores\, A
 lexandre Sá e Emílio Gomes\, interpretam várias personagens do século 
 XIX\, conduzindo o público por episódios marcantes da vida do autor\, de
 sde amores tumultuados e julgamentos a momentos de polémica e ao seu trá
 gico desfecho.\n\nMás información\nDur. 40 min\n\nAcesso livre e gratuit
 o\n\nhttps://www.cm-maia.pt/institucional/agenda/evento/espetaculo-de-teat
 ro-camilo-na-rua
URL:https://iporto.amp.pt/es/eventos/camilo-na-rua/
DTSTART:20250315
CATEGORIES:Teatro
END:VEVENT
END:VCALENDAR
