BEGIN:VCALENDAR
PRODID:-//eluceo/ical//2.0/EN
VERSION:2.0
CALSCALE:GREGORIAN
BEGIN:VEVENT
UID:e57ec1068edfb79cfa988a1aae7dfb83
DTSTAMP:20260424T160053Z
SUMMARY:Camilo – Vida y obra
DESCRIPTION:Cronograma\n21:30\n\nDescripción\n"Camilo – Vida y obra" es 
 un ballet contemporáneo del Ballet do Douro\, con concepto y coreografía
  de Sílvia Boga\, que recrea la vida y el universo literario de Camilo Ca
 stelo Branco\, en el marco de las celebraciones del bicentenario de Camilo
 .\n\nMás información\nhttps://www.cm-gaia.pt/pt/eventos/camilo-vida-e-ob
 ra/
URL:https://iporto.amp.pt/es/eventos/camilo-vida-y-obra/
DTSTART:20260430
LOCATION:Rua de Moçambique\, 4430-145 Vila Nova de Gaia
GEO:41.123368;-8.603618
X-APPLE-STRUCTURED-LOCATION;VALUE=URI;X-ADDRESS=Rua de Moçambique\, 4430-1
 45 Vila Nova de Gaia;X-APPLE-RADIUS=49;X-TITLE=:geo:41.123368,-8.603618
CATEGORIES:Danza
END:VEVENT
END:VCALENDAR
