BEGIN:VCALENDAR
PRODID:-//eluceo/ical//2.0/EN
VERSION:2.0
CALSCALE:GREGORIAN
BEGIN:VEVENT
UID:53106326c9a8887f2a57663f72505ebe
DTSTAMP:20260423T073845Z
SUMMARY:Camilo y el Juego en la Póvoa Balnearia
DESCRIPTION:Cronograma\nMar-Dom 09:30-12:30/13:30-17:00 | Lun\, festivos ce
 rrado\n\nDescripción\nLa justificación de la estancia de Camilo Castelo 
 Branco en Póvoa eran las recomendaciones médicas de bañarse en el mar\,
  una receta para las dolencias que le aquejaban y deprimían\, pero el jue
 go y la diversión de los concurridos y lujosos cafés eran un atractivo m
 ás poderoso para su inquieto espíritu. \nLa exposición nos traslada al 
 ambiente de Póvoa a finales del siglo XIX\, cuando la proyección de la c
 iudad se debía tanto a su actividad pesquera como al movimiento turístic
 o de la temporada de baños.\n\nMás información\nhttps://www.cm-pvarzim.
 pt/eventos/exposicao-camilo-e-o-jogo-na-povoa-balnear/
URL:https://iporto.amp.pt/es/eventos/camilo-y-el-juego-en-la-povoa-balneari
 a/
DTSTART:20250218
DTEND:20270101
CATEGORIES:Exposiciones
END:VEVENT
END:VCALENDAR
