BEGIN:VCALENDAR
PRODID:-//eluceo/ical//2.0/EN
VERSION:2.0
CALSCALE:GREGORIAN
BEGIN:VEVENT
UID:fa9c97c967f1cde9e5e7ba7374749bed
DTSTAMP:20260419T125614Z
SUMMARY:Criolo 50
DESCRIPTION:Cronograma\n21:00\n\nDescripción\nReconocido por su capacidad 
 para combinar hip hop\, samba\, MPB\, reggae y otros estilos\, Criolo cele
 bra su 50 cumpleaños con un concierto cuyo repertorio encarna una amplia 
 retrospectiva de su carrera y en el que se adentra en ritmos como el trap\
 , el grime\, el drill y el afrobeat. En compañía de Ed Trombone\, DJ Dan
 Dan\, Xeina Barros\, Ricardo Rabelo\, Bruno Buarque\, Gustavo Sousa y Bira
  Sax\, el músico paulista demuestra que el hip hop es un árbol con mucha
 s ramas\, mucho más grande y frondoso de lo que la lógica del mercado pi
 nta.\n\nMás información\nBilletes\n1.ª Platea €35\n2.ª Platea €25\
 n\nDescuentos\nAmigo 25%\n\nM/6\n\nPromotor\nProdutores Associados
URL:https://iporto.amp.pt/es/eventos/criolo-50/
DTSTART:20250604
LOCATION:Avenida da Boavista\, 604-610\, 4149-071 Porto
GEO:41.159059;-8.630685
X-APPLE-STRUCTURED-LOCATION;VALUE=URI;X-ADDRESS=Avenida da Boavista\, 604-6
 10\, 4149-071 Porto;X-APPLE-RADIUS=49;X-TITLE=:geo:41.159059,-8.630685
CATEGORIES:Música
END:VEVENT
END:VCALENDAR
