BEGIN:VCALENDAR
PRODID:-//eluceo/ical//2.0/EN
VERSION:2.0
CALSCALE:GREGORIAN
BEGIN:VEVENT
UID:bf5c8302ebf84b70f182553bc0d429f3
DTSTAMP:20260424T202259Z
SUMMARY:Cruzamentos: Geometrias Têxteis
DESCRIPTION:Cronograma\n10:00-12:30/14:00-16:30\n\nDescripción\nWorkshop d
 e exploração da técnica da tecelagem em papel para compreender estrutur
 as têxteis de forma dinâmica\, com foco no debuxo\, ou seja\, no cruzame
 nto das tiras para formar padrões.\n\nAprendizagem das estruturas fundame
 ntais: tafetá\, sarja e cetim.\n\nObservação das coleções do museu pa
 ra reconhecer ordem e ritmo nas peças expostas.\n\nPersonalização das c
 omposições pelos participantes\, culminando numa tecelagem em cartolina 
 e dossier técnico com amostras e informação de apoio.\n\nMás informaci
 ón\nM/14 anos\, sem necessidade de experiência prévia. \n\n65€ (geral
 ) e 55€ para Amigos do MNSR\n\nAs inscrições podem ser feitas através
  de design@isabelguimaraes.com
URL:https://iporto.amp.pt/es/eventos/cruzamentos-geometrias-texteis/
DTSTART:20260418
LOCATION:Rua de Dom Manuel II\, 44\, 4050-342 Porto
GEO:41.147742;-8.621467
X-APPLE-STRUCTURED-LOCATION;VALUE=URI;X-ADDRESS=Rua de Dom Manuel II\, 44\,
  4050-342 Porto;X-APPLE-RADIUS=49;X-TITLE=:geo:41.147742,-8.621467
CATEGORIES:Servicio Educativo
END:VEVENT
END:VCALENDAR
