BEGIN:VCALENDAR
PRODID:-//eluceo/ical//2.0/EN
VERSION:2.0
CALSCALE:GREGORIAN
BEGIN:VEVENT
UID:9349aef162b32cd8162d802f2342c94c
DTSTAMP:20260423T153037Z
SUMMARY:El belén tradicional de Póvoa de Varzim
DESCRIPTION:Cronograma\nMar-Dom 09:30-12:30/13:30-17:00\n\nMás informació
 n\nEntrada libre\n\nhttps://www.cm-pvarzim.pt/eventos/o-natal-no-museu/
URL:https://iporto.amp.pt/es/eventos/el-belen-tradicional-de-povoa-de-varzi
 m/
DTSTART:20251212
DTEND:20260112
CATEGORIES:Exposiciones
END:VEVENT
END:VCALENDAR
