BEGIN:VCALENDAR
PRODID:-//eluceo/ical//2.0/EN
VERSION:2.0
CALSCALE:GREGORIAN
BEGIN:VEVENT
UID:6f2b12c4176234ea750936424d37617d
DTSTAMP:20260425T165028Z
SUMMARY:Exposición Palco de los Títeres del Teatro e Marionetas de Mandr
 ágora
DESCRIPTION:Cronograma\nLun-Vie 10:00-17:00 | Sab 10:00-13:30/14:30-18:00\n
 \nDescripción\n"Voltada para o mar a exposição do Teatro e Marionetas d
 e Mandrágora assiste ao balançar das ondas\, observando o ciclo das mar
 és. É em Espinho que as marionetas encontraram a sua casa à mais de uma
  década. (...)"\n\nMás información\n"(...) Uma&nbsp\;exposi&ccedil\;&at
 ilde\;o agora renovada\, preparada para receber os visitantes\, repleta&nb
 sp\;de&nbsp\;figuras\, peda&ccedil\;os de esculturas. Peda&ccedil\;os de h
 ist&oacute\;rias que viajaram e que muitas vezes subiram ao palco recebend
 o os sorrisos\, os olhares atentos e as palmas dos espetadores. Viajar por
  esta exposi&ccedil\;&atilde\;o &eacute\; percorrer duas d&eacute\;cadas d
 e partilhas. Cada objeto tem e teve um espa&ccedil\;o de existir. Viajamos
  por autores de grande valor nacional nestas esculturas\, conhecemos um po
 uco mais do nosso patrim&oacute\;nio atrav&eacute\;s das lendas que aqui s
 e prefiguram. Viajamos por todo um processo de cria&ccedil\;&atilde\;o no 
 acompanhar do nascimento destes quase seres\, que encerram em si segredos 
 c&eacute\;nicos. Mas al&eacute\;m da po&eacute\;tica podemos percorrer os 
 materiais\, a figura e a forma\, a modela&ccedil\;&atilde\;o\, o desenho\,
  a escultura\, a mistura de abordagens\, linguagens que fazem parte da con
 stru&ccedil\;&atilde\;o das marionetas que constituem este esp&oacute\;lio
  com mais de meia centena de pe&ccedil\;as."\n\n\nTurned to the sea\, the 
 Teatro e Marionetas de Mandr&aacute\;gora&rsquo\;s exhibition watches the 
 waves\, paying attention to the tides. The puppets have found their home i
 n Espinho for over a decade. The exhibition was renewed and is now prepare
 d to receive visitors offering plenty of figures\, parts of sculptures\, p
 ieces of stories that travelled around and went many times on stage receiv
 ing the smiles\, the attention and the applause of the audience. To visit 
 this exhibition is to explore two decades of shared experiences. (&hellip\
 ;) Each object has and had its own time and space. We will visit authors o
 f great national value through these sculptures and get to know a bit more
  about our heritage through the legends we find here. We will also visit t
 he process of creation\, following the birth of these almost-beings with m
 any scenery secrets to tell. Besides poetics\, there are materials\, figur
 e and form\, modelling\, drawing\, sculpture\, combined approaches\, langu
 ages that are part of the construction of the puppets comprised in this co
 llection of over fifty pieces.\n\n\nVolvi&eacute\;ndose hacia el mar\, la 
 exposici&oacute\;n del Teatro e Marionetas de Mandr&aacute\;gora asiste al
  balancear de las olas\, observando el ciclo de las mareas. Los t&iacute\;
 teres han encontrado su casa en Espinho hace m&aacute\;s de una d&eacute\;
 cada. Una exposici&oacute\;n ahora renovada\, preparada para recibir sus v
 isitantes llena de figuras\, partes de esculturas\, pedazos de historias q
 ue viajaron y que muchas veces subieron al escenario para recibir las sonr
 isas\, las miradas atentas y el aplauso de los espectadores. Viajar por es
 ta exposici&oacute\;n es recorrer dos d&eacute\;cadas de experiencias comp
 artidas. (&hellip\;) Cada objeto tiene y tuvo un espacio de existir. Viaja
 mos por autores de gran valor nacional en estas esculturas\, conocemos un 
 poco m&aacute\;s sobre nuestro patrimonio a trav&eacute\;s de las leyendas
  que encontramos aqu&iacute\;. Viajamos por todo el proceso de creaci&oacu
 te\;n\, acompa&ntilde\;ando el nacimiento de estos casi seres\, con muchos
  secretos esc&eacute\;nicos. Y adem&aacute\;s de la po&eacute\;tica\, pode
 mos recorrer los materiales\, la figura y la forma\, la modelaci&oacute\;n
 \, el dibujo\, la escultura\, la mezcla de abordajes\, lenguajes que hacen
  parte de la construcci&oacute\;n de los t&iacute\;teres que constituyen e
 sta colecci&oacute\;n con m&aacute\;s de cincuenta piezas.
URL:https://iporto.amp.pt/es/eventos/exposicao-palco-das-marionetas-do-teat
 ro-e-marionetas-de-mandragora-6_es/
DTSTART:20210701
DTEND:20210801
LOCATION:Rua 41\, Av. João de Deus\, 4500 Espinho
GEO:41.000797;-8.643697
X-APPLE-STRUCTURED-LOCATION;VALUE=URI;X-ADDRESS=Rua 41\, Av. João de Deus\
 , 4500 Espinho;X-APPLE-RADIUS=49;X-TITLE=:geo:41.000797,-8.643697
CATEGORIES:Exposiciones
END:VEVENT
END:VCALENDAR
