BEGIN:VCALENDAR
PRODID:-//eluceo/ical//2.0/EN
VERSION:2.0
CALSCALE:GREGORIAN
BEGIN:VEVENT
UID:f697e4a7ecf20df866a4de97de6fa8f1
DTSTAMP:20260421T092402Z
SUMMARY:Exposición Internacional de Belenes de Santo Tirso
DESCRIPTION:Cronograma\nDom-Jue 10:00-20:00 | Vie\, Sab 10:00-23:00 | 24\, 
 31 Dic 10:00-12:00 | 25 Dic\, 1 Ene cerrada\n\nDescripción\nUna iniciativ
 a promovida por la Confraria do Caco y el Ayuntamiento de Santo Tirso\, es
 te año en colaboración con la Federación Catalana de Belenes\, que cele
 bra su 40.º aniversario.\n\nIntegrada en el programa oficial de las conme
 moraciones de la Federación\, la muestra presenta alrededor de 50 belenes
 \, destacando la tradición catalana y la excelencia artística que le es 
 reconocida internacionalmente.\n\nMás información\nhttps://www.cm-stirso
 .pt/conhecer/eventos/evento/exposicao-de-presepios
URL:https://iporto.amp.pt/es/eventos/exposicion-internacional-de-belenes-de
 -santo-tirso/
DTSTART:20251129
DTEND:20260108
CATEGORIES:Exposiciones
END:VEVENT
END:VCALENDAR
