BEGIN:VCALENDAR
PRODID:-//eluceo/ical//2.0/EN
VERSION:2.0
CALSCALE:GREGORIAN
BEGIN:VEVENT
UID:924d9b86d519f0939bebf305e93fe0ba
DTSTAMP:20260420T104230Z
SUMMARY:Francisco Relógio – Pinturas y dibujos
DESCRIPTION:Cronograma\nMar-Dom 10:00-12:30/14:00-17:30\n\nDescripción\nLa
  exposición Francisco Relógio - Pinturas y dibujos ofrece una visión gl
 obal de la trayectoria del artista Francisco Relógio. Destacado por su si
 ngular trayectoria en el movimiento neorrealista y por su multifacética p
 roducción artística\, que abarcó la pintura\, la escenografía\, el dib
 ujo\, la cerámica y la alfarería\, la exposición pone de relieve su evo
 lución estética y su impacto en el arte portugués.\n\nMás información
 \nInauguración: 24 Oct 18:30
URL:https://iporto.amp.pt/es/eventos/francisco-relogio-pinturas-y-dibujos/
DTSTART:20251024
DTEND:20260112
LOCATION:Rua Paula Rego\, 3700-119 S. João da Madeira
GEO:40.906111;-8.497440
X-APPLE-STRUCTURED-LOCATION;VALUE=URI;X-ADDRESS=Rua Paula Rego\, 3700-119 S
 . João da Madeira;X-APPLE-RADIUS=49;X-TITLE=:geo:40.906111,-8.497440
CATEGORIES:Exposiciones
END:VEVENT
END:VCALENDAR
