BEGIN:VCALENDAR
PRODID:-//eluceo/ical//2.0/EN
VERSION:2.0
CALSCALE:GREGORIAN
BEGIN:VEVENT
UID:d899179505d15b803978cde2437af1b6
DTSTAMP:20260420T121424Z
SUMMARY:Hay fiesta en el pueblo
DESCRIPTION:Cronograma\n12:30-23:00\n\nDescripción\n30 Ago\n\n15:00 Diogo 
 Picão\n20:00 Soul Trio\n21:30 Ricardo Azevedo + Banda Marcial do Vale\n\n
 31 Ago\n\n12:30 Soul Trio\n18:00 Coletivo Capela\n\nMás información\nhtt
 ps://cm-feira.pt/ha-festa-na-aldeia
URL:https://iporto.amp.pt/es/eventos/hay-fiesta-en-el-pueblo/
DTSTART:20250830
DTEND:20250901
CATEGORIES:Música
END:VEVENT
END:VCALENDAR
