BEGIN:VCALENDAR
PRODID:-//eluceo/ical//2.0/EN
VERSION:2.0
CALSCALE:GREGORIAN
BEGIN:VEVENT
UID:b1bcf9c2d4eac8f42bf3a72c545049d7
DTSTAMP:20260420T090223Z
SUMMARY:Imágenes que dejan huella: Empreza do Bolhão
DESCRIPTION:Cronograma\nMar-Dom 10:00-22:00\n\nDescripción\nNueva iniciati
 va para dar a conocer la colección de Empreza do Bolhão\, propiedad del 
 Ayuntamiento de Maia. Esta empresa fue una de las imprentas más important
 es de Portugal del siglo XX. Fundada en 1923 y sucesora de las anteriores 
 de Raul de Caldevilla\, fue pionera en la creación de carteles únicos y 
 estrategias publicitarias que moldearon la imagen visual del país durante
  décadas.
URL:https://iporto.amp.pt/es/eventos/imagenes-que-dejan-huella-empreza-do-b
 olhao/
DTSTART:20260413
DTEND:20260512
LOCATION:Rua Eng. Duarte Pacheco\, 131\n4474-006 Maia
GEO:41.234501;-8.622922
X-APPLE-STRUCTURED-LOCATION;VALUE=URI;X-ADDRESS=Rua Eng. Duarte Pacheco\, 1
 31\n4474-006 Maia;X-APPLE-RADIUS=49;X-TITLE=:geo:41.234501,-8.622922
CATEGORIES:Exposiciones
END:VEVENT
END:VCALENDAR
