BEGIN:VCALENDAR
PRODID:-//eluceo/ical//2.0/EN
VERSION:2.0
CALSCALE:GREGORIAN
BEGIN:VEVENT
UID:553fc62ffd12cf34f3f2dfaa56bfb150
DTSTAMP:20260420T141132Z
SUMMARY:Indignu (lat)
DESCRIPTION:Cronograma\n2/4 22:00 Facebook &amp\; Youtube TMP (estrena) | 3
 \,4/4 de continuo BOL Live Streaming (disponible 48 horas)\n\nDescripción
 \nA sonoridade do colectivo indignu [lat.]\, que conta com mais de uma dé
 cada\, não pode fugir ao selo pós-rock\, mas fá-lo longe dos estereóti
 pos de género habituais e do mainstream rock alternativo. O som instrumen
 tal pode reportá-los para um dissimulado pós-grunge e os momentos acúst
 icos\, manchados de veneração ao simples e ao natural\, trazem algum al
 ívio e ecletismo ao ouvido. Melodias e distorções emocionais contrastan
 tes são a principal característica do estilo da banda.\n\nMás informaci
 ón\nA sua pr&oacute\;pria vis&atilde\;o de crescendos cat&aacute\;rticos 
 apresenta um som extremamente sujo e corajoso. Contam com quatro discos: "
 Fetus In Fetu"\, os aclamados "Odyssea"\, "Ophelia" e o mais recente "Umbr
 a" que tem muito da carga que Portugal viveu e sentiu nos inc&ecirc\;ndios
  de 2017. Pisaram a maioria dos palcos nacionais e ilhas. Pisaram o palco 
 de um dos maiores festivais do mundo do g&eacute\;nero\, o dunk!fest na B&
 eacute\;lgica e mais recentemente em 2019 o VIVID Festival na Noruega. Tra
 balharam\, entre outros nomes da cena nacional\, com Ana Deus\, Valter Hug
 o M&atilde\;e e Manel Cruz. Inspiram-se na lusofonia\, nos mares e na terr
 a.\n\n\nThe indignu [lat.] collective has been around for over a decade. U
 nable to escape the post-rock label\, their sound shies away from the ster
 eotypes usually associated with the genre and from mainstream alternative 
 rock. Their instrumental music may covertly relate to post-grunge\, and th
 e acoustic moments\, worshiping the simple and natural\, offer the listene
 r some relieve and eclecticism. Contrasting emotional melodies and distort
 ions are the band&rsquo\;s main characteristic. Their very own approach to
  cathartic crescendos presents us with an extremely foul and bold sound. T
 hey have released four albums: Fetus in Fetu\, the acclaimed Odyssea and O
 phelia\, and the latest\, Umbra\, which is impregnated with what Portugal 
 experienced and felt during the 2017 wildfires. They have performed on mos
 t Portuguese stages and at one of the largest festivals of its genre in th
 e world: dunk!fest\, in Belgium. More recently\, they performed at the 201
 9 VIVID Festival in Norway. Among other Portuguese artists\, they worked w
 ith Ana Deus\, Valter Hugo M&atilde\;e and Manel Cruz. They draw inspirati
 on from the Portuguese-speaking countries&rsquo\; culture\, the sea and th
 e land.\nSource and + Info: www.teatromunicipaldoporto.pt\nTMP ONLINE\nCo-
 production with Amplificasom\nPrice Free (Facebook &amp\; Youtube TMP) / &
 euro\;3.50 (BOL Live Streaming) | Duration 50 min | Age recommendation &gt
 \;6\n\n\nLa sonoridad del colectivo indignu [lat.]\, que cuenta con m&aacu
 te\;s de una d&eacute\;cada\, no puede huir del sello posrock\, pero lo ha
 ce lejos de los estereotipos de g&eacute\;nero habituales ni del mainstrea
 m rock alternativo. El sonido instrumental puede reportarlos a un disimula
 do posgrunge y los momentos ac&uacute\;sticos\, marcados de veneraci&oacut
 e\;n al simples y al natural\, traen alg&uacute\;n alivio y eclecticismo a
 l o&iacute\;do. Melod&iacute\;as y distorsiones emocionales contrastantes 
 son la principal caracter&iacute\;stica del estilo de la banda. Su propia 
 visi&oacute\;n de crescendos cat&aacute\;rticos presenta un sonido muy suc
 io y valiente. Cuentan con cuatro discos: "Fetus In Fetu"\, los aclamados 
 "Odyssea"\, "Ophelia" y lo m&aacute\;s reciente "Umbra"\, que tiene mucho 
 de la carga vivida y sentida por Portugal en los incendios de 2017. Han to
 cado en la mayor parte de los escenarios de Portugal continental y sus isl
 as. Han tocado en uno de los mayores festivales del mundo en su g&eacute\;
 nero\, el dunk!fest\, en B&eacute\;lgica\, y m&aacute\;s recientemente\, e
 n 2019\, en el VIVID Festival\, en Noruega. Han trabajado con Ana Deus\, V
 alter Hugo M&atilde\;e y Manel Cruz entre otros nombres nacionales. Se ins
 piran en la lengua y cultura portuguesas\, en los mares y en la tierra.\n+
  Info: www.teatromunicipaldoporto.pt\nTMP ONLINE\nCoproducci&oacute\;n con
  Amplificasom\nGratuito (Facebook &amp\; Youtube TMP) / 3\,50 &euro\; (BOL
  Live Streaming) | Duraci&oacute\;n 50 min | Edad recomendada &gt\;6
URL:https://iporto.amp.pt/es/eventos/indignu-lat_es/
DTSTART:20210402
DTEND:20210405
CATEGORIES:Música
END:VEVENT
END:VCALENDAR
