BEGIN:VCALENDAR
PRODID:-//eluceo/ical//2.0/EN
VERSION:2.0
CALSCALE:GREGORIAN
BEGIN:VEVENT
UID:0c8048ac4b8c0d2f5ee80549145b64a8
DTSTAMP:20260421T120649Z
SUMMARY:Invisibilidades Porto Femme | Mira Galerias
DESCRIPTION:Cronograma\nMie-Sab 15:00-19:00\n\nDescripción\n“Invisibilid
 ades” es una exposición fotográfica resultado de una convocatoria abie
 rta dirigida a artistas que se identifiquen como mujeres y personas no bin
 arias.\n\nEstá organizada conjuntamente por el Proyecto XX Elemento/Asoci
 ación Porto Femme y MIRA Galerias | MIRA FORUM y tiene como objetivo prom
 over la visibilidad de las mujeres en el mundo de la fotografía.\n\nEl te
 ma “Invisibilidades” ha dado lugar a una serie de desarrollos conceptu
 ales y estéticos que se muestran en esta exposición.\n\nMás informació
 n\nExposición que hace parte del proyecto “(In)visibilidades e Derivas"
 \nApoyo: dgARTES\n\nEntrada libre\n\nhttps://www.facebook.com/events/54346
 7528766965?locale=pt_PT
URL:https://iporto.amp.pt/es/eventos/invisibilidades-porto-femme-mira-galer
 ias/
DTSTART:20250329
DTEND:20250425
LOCATION:Rua Padre António Vieira\, 68\n4300-030 Porto
GEO:41.147803;-8.588697
X-APPLE-STRUCTURED-LOCATION;VALUE=URI;X-ADDRESS=Rua Padre António Vieira\,
  68\n4300-030 Porto;X-APPLE-RADIUS=49;X-TITLE=:geo:41.147803,-8.588697
CATEGORIES:Exposiciones
END:VEVENT
END:VCALENDAR
