BEGIN:VCALENDAR
PRODID:-//eluceo/ical//2.0/EN
VERSION:2.0
CALSCALE:GREGORIAN
BEGIN:VEVENT
UID:2e2098a102f190c4c5a58b4e4208ab3c
DTSTAMP:20260420T120624Z
SUMMARY:João Rosa Quinteto
DESCRIPTION:Cronograma\n19:30\n\nDescripción\nVibrafonista y compositor af
 incado en Nueva York\, João Rosa trae a este concierto su quinteto habitu
 al\, un espacio de creación y simbiosis entre corrientes modernas y elect
 rónicas\, con clara influencia de la música europea y americana.
URL:https://iporto.amp.pt/es/eventos/joao-rosa-quinteto/
DTSTART:20250708
LOCATION:Avenida da Boavista\, 604-610\, 4149-071 Porto
GEO:41.159059;-8.630685
X-APPLE-STRUCTURED-LOCATION;VALUE=URI;X-ADDRESS=Avenida da Boavista\, 604-6
 10\, 4149-071 Porto;X-APPLE-RADIUS=49;X-TITLE=:geo:41.159059,-8.630685
CATEGORIES:Música
END:VEVENT
END:VCALENDAR
