BEGIN:VCALENDAR
PRODID:-//eluceo/ical//2.0/EN
VERSION:2.0
CALSCALE:GREGORIAN
BEGIN:VEVENT
UID:e0c2fd77fd10d9a01f0d63594dd468f5
DTSTAMP:20260423T152510Z
SUMMARY:La Noche en Blanco
DESCRIPTION:Cronograma\n22:00\n\nDescripción\nDe 22:00 a 04:00\, todo el m
 undo está invitado a vestirse de blanco y salir a la calle para divertirs
 e en los diferentes puntos de la ciudad: Passeio Alegre\, Praça da Repúb
 lica\, Praça do Almada y Esplanada do Carvalhido. \n\nA lo largo de la no
 che habrá buena música de los DJ invitados Chinelos com vida (dúo)\, Ca
 seira\, Rubem T\, Wilson Honrado\, Bruno Guedes Vieira\, Merche Romero\, P
 edro Cazanova\, Luisinho (Tiger Lewis)\, João Duque y Alex. \nAdemás de 
 la animación musical\, la magia de la Noche Blanca recorrerá toda la ciu
 dad con zancos\, artes circenses y acrobacias varias.\n\nMás información
 \nhttps://www.cm-pvarzim.pt/comunicacao/noticias/noite-branca-e-na-povoa-d
 e-varzim/
URL:https://iporto.amp.pt/es/eventos/la-noche-en-blanco/
DTSTART:20240824
CATEGORIES:Aire Libre,Aire Libre
END:VEVENT
END:VCALENDAR
