BEGIN:VCALENDAR
PRODID:-//eluceo/ical//2.0/EN
VERSION:2.0
CALSCALE:GREGORIAN
BEGIN:VEVENT
UID:d11393c3341f538b0b5db5069214da9a
DTSTAMP:20260420T090148Z
SUMMARY:Literatura censurada
DESCRIPTION:Cronograma\nMar-Vie 09:00-12:30/14:00-17:30 | Vie\, Sab 21:00-2
 3:00 | Sab 15:00-19:00 | Dom 15:00-18:00 | Lun\, festivos cerrado\n\nMás 
 información\nhttps://www.cm-valongo.pt/descobrir/eventos/evento/exposicao
 -literatura-silenciada-no-forum-de-ermesinde
URL:https://iporto.amp.pt/es/eventos/literatura-censurada/
DTSTART:20250621
DTEND:20251103
LOCATION:Rua Fábrica da Cerâmica\, 4445-428 Ermesinde
GEO:41.215684;-8.553201
X-APPLE-STRUCTURED-LOCATION;VALUE=URI;X-ADDRESS=Rua Fábrica da Cerâmica\,
  4445-428 Ermesinde;X-APPLE-RADIUS=49;X-TITLE=:geo:41.215684,-8.553201
CATEGORIES:Exposiciones
END:VEVENT
END:VCALENDAR
