BEGIN:VCALENDAR
PRODID:-//eluceo/ical//2.0/EN
VERSION:2.0
CALSCALE:GREGORIAN
BEGIN:VEVENT
UID:58db8cde7583646e3118224ba272cc76
DTSTAMP:20260420T101919Z
SUMMARY:Nuno Ribeiro
DESCRIPTION:Cronograma\n21:30\n\nDescripción\nDesde emotivos éxitos hasta
  vibrantes estribillos\, los conciertos de Nuno Ribeiro son momentos de ma
 gia\, energía y conexión con el público.\n\n¡Prepárate para una exper
 iencia única!\n\nMás información\nM/6\n\nBilletes en venta en el Teatro
  Municipal o en BOL.PT
URL:https://iporto.amp.pt/es/eventos/nuno-ribeiro/
DTSTART:20250214
LOCATION:Avenida Dr. João Canavarro\, 4480-668  Vila do Conde
GEO:41.352773;-8.745680
X-APPLE-STRUCTURED-LOCATION;VALUE=URI;X-ADDRESS=Avenida Dr. João Canavarro
 \, 4480-668  Vila do Conde;X-APPLE-RADIUS=49;X-TITLE=:geo:41.352773,-8.745
 680
CATEGORIES:Música
END:VEVENT
END:VCALENDAR
