BEGIN:VCALENDAR
PRODID:-//eluceo/ical//2.0/EN
VERSION:2.0
CALSCALE:GREGORIAN
BEGIN:VEVENT
UID:dbf624bc2f4e9d0c2f0489a1c45665a8
DTSTAMP:20260421T085635Z
SUMMARY:O Natal dos Silvas
DESCRIPTION:Cronograma\n21:15\n\nDescripción\nQuando os parentes do mordom
 o Adão Silva anunciam uma visita inesperada para o Natal\, ele vê-se obr
 igado a transformar o patrão num impostor… e a casa num palco de confus
 ões! Entre chantagens\, disfarces\, triângulos amorosos e ladrões desas
 trados\, esta comédia natalícia prova que\, às vezes\, a maior mentira 
 pode revelar as verdades mais hilariantes — e que o verdadeiro espírito
  de Natal pode surgir nos lugares (e nas pessoas)  mais inesperados.\n\nM
 ás información\nM/6 | 90 Min\n\nEntrada gratuita mediante levantamento d
 e convite
URL:https://iporto.amp.pt/es/eventos/o-natal-dos-silvas/
DTSTART:20251204
LOCATION:Rua 11 de Outubro\, 89\n3700-127 São João da Madeira
GEO:40.900807;-8.491850
X-APPLE-STRUCTURED-LOCATION;VALUE=URI;X-ADDRESS=Rua 11 de Outubro\, 89\n370
 0-127 São João da Madeira;X-APPLE-RADIUS=49;X-TITLE=:geo:40.900807,-8.49
 1850
CATEGORIES:Etc
END:VEVENT
END:VCALENDAR
