BEGIN:VCALENDAR
PRODID:-//eluceo/ical//2.0/EN
VERSION:2.0
CALSCALE:GREGORIAN
BEGIN:VEVENT
UID:2be9dd796a8377cd5c8a9b2af5e46c14
DTSTAMP:20260420T120537Z
SUMMARY:O Timbre e o Ritmo
DESCRIPTION:Cronograma\n17:30\n\nDescripción\nA linguagem da percussão é
  pré-histórica e\, partilhada por todo o globo\, define o ritmo na músi
 ca\, com timbres que variam do sussurro das maracas ao estrondo dos tambor
 es. Esses sons moldam o fluxo da melodia\, criando uma tapeçaria rítmica
  que é tanto a fundação quanto o tempero de qualquer composição music
 al.\n\nMás información\nPreços\nSessão € 15\nMódulo € 37
URL:https://iporto.amp.pt/es/eventos/o-timbre-e-o-ritmo/
DTSTART:20250915
DTEND:20250930
LOCATION:Avenida da Boavista\, 604-610\, 4149-071 Porto
GEO:41.159059;-8.630685
X-APPLE-STRUCTURED-LOCATION;VALUE=URI;X-ADDRESS=Avenida da Boavista\, 604-6
 10\, 4149-071 Porto;X-APPLE-RADIUS=49;X-TITLE=:geo:41.159059,-8.630685
CATEGORIES:Servicio Educativo
END:VEVENT
END:VCALENDAR
